BEGIN:VCALENDAR
VERSION:2.0
PRODID:-//ddaysoftware.com//NONSGML DDay.iCal 1.0//EN
BEGIN:VEVENT
DESCRIPTION:Members of the public who wish to participate in Public Partici
 pation must register in advance. Advance registration will be available be
 ginning Monday\, July 8th at 10:30 a.m. and will close on Tuesday\, July 9
 th at 5:00 p.m. or until all five slots are filled.
DTEND:20240710T180000
DTSTAMP:20260425T102036
DTSTART:20240710T180000
LOCATION:George Westinghouse College Prep- Auditorium Chicago\, IL 60624
SEQUENCE:0
SUMMARY:Monthly board meeting
UID:bf2b6a84-7c90-4bf2-a58d-ee438e31f506
END:VEVENT
END:VCALENDAR
