BEGIN:VCALENDAR
VERSION:2.0
PRODID:-//ddaysoftware.com//NONSGML DDay.iCal 1.0//EN
BEGIN:VEVENT
DTEND:20260330T103000
DTSTAMP:20260425T084347
DTSTART:20260330T103000
LOCATION:CPS Loop Office Chicago\, IL 60602
SEQUENCE:0
SUMMARY:Monthly board meeting
UID:91be5116-238a-49e5-8a0d-ff59d224c99e
END:VEVENT
END:VCALENDAR
